BEGIN:VCALENDAR
VERSION:2.0
PRODID:-//Musiktransfair - ECPv6.15.20//NONSGML v1.0//EN
CALSCALE:GREGORIAN
METHOD:PUBLISH
X-ORIGINAL-URL:https://www.musiktransfair.de
X-WR-CALDESC:Veranstaltungen für Musiktransfair
REFRESH-INTERVAL;VALUE=DURATION:PT1H
X-Robots-Tag:noindex
X-PUBLISHED-TTL:PT1H
BEGIN:VTIMEZONE
TZID:Europe/Paris
BEGIN:DAYLIGHT
TZOFFSETFROM:+0100
TZOFFSETTO:+0200
TZNAME:CEST
DTSTART:20220327T010000
END:DAYLIGHT
BEGIN:STANDARD
TZOFFSETFROM:+0200
TZOFFSETTO:+0100
TZNAME:CET
DTSTART:20221030T010000
END:STANDARD
BEGIN:DAYLIGHT
TZOFFSETFROM:+0100
TZOFFSETTO:+0200
TZNAME:CEST
DTSTART:20230326T010000
END:DAYLIGHT
BEGIN:STANDARD
TZOFFSETFROM:+0200
TZOFFSETTO:+0100
TZNAME:CET
DTSTART:20231029T010000
END:STANDARD
BEGIN:DAYLIGHT
TZOFFSETFROM:+0100
TZOFFSETTO:+0200
TZNAME:CEST
DTSTART:20240331T010000
END:DAYLIGHT
BEGIN:STANDARD
TZOFFSETFROM:+0200
TZOFFSETTO:+0100
TZNAME:CET
DTSTART:20241027T010000
END:STANDARD
BEGIN:DAYLIGHT
TZOFFSETFROM:+0100
TZOFFSETTO:+0200
TZNAME:CEST
DTSTART:20250330T010000
END:DAYLIGHT
BEGIN:STANDARD
TZOFFSETFROM:+0200
TZOFFSETTO:+0100
TZNAME:CET
DTSTART:20251026T010000
END:STANDARD
END:VTIMEZONE
BEGIN:VTIMEZONE
TZID:Europe/Helsinki
BEGIN:DAYLIGHT
TZOFFSETFROM:+0200
TZOFFSETTO:+0300
TZNAME:EEST
DTSTART:20200329T010000
END:DAYLIGHT
BEGIN:STANDARD
TZOFFSETFROM:+0300
TZOFFSETTO:+0200
TZNAME:EET
DTSTART:20201025T010000
END:STANDARD
BEGIN:DAYLIGHT
TZOFFSETFROM:+0200
TZOFFSETTO:+0300
TZNAME:EEST
DTSTART:20210328T010000
END:DAYLIGHT
BEGIN:STANDARD
TZOFFSETFROM:+0300
TZOFFSETTO:+0200
TZNAME:EET
DTSTART:20211031T010000
END:STANDARD
BEGIN:DAYLIGHT
TZOFFSETFROM:+0200
TZOFFSETTO:+0300
TZNAME:EEST
DTSTART:20220327T010000
END:DAYLIGHT
BEGIN:STANDARD
TZOFFSETFROM:+0300
TZOFFSETTO:+0200
TZNAME:EET
DTSTART:20221030T010000
END:STANDARD
BEGIN:DAYLIGHT
TZOFFSETFROM:+0200
TZOFFSETTO:+0300
TZNAME:EEST
DTSTART:20230326T010000
END:DAYLIGHT
BEGIN:STANDARD
TZOFFSETFROM:+0300
TZOFFSETTO:+0200
TZNAME:EET
DTSTART:20231029T010000
END:STANDARD
END:VTIMEZONE
BEGIN:VEVENT
DTSTART;VALUE=DATE:20240427
DTEND;VALUE=DATE:20240428
DTSTAMP:20260421T122839
CREATED:20240502T093357Z
LAST-MODIFIED:20240603T102052Z
UID:16094-1714204800-1714262399@www.musiktransfair.de
SUMMARY:Gerd Spiekermann // NDR 90\,3 // Hör mal'n beten to // De Test
DESCRIPTION: \nGerd Spiekermann betätigt sich als Detektiv und spürt mit großem Scharfsinn einem verlorenen Gegenstand nach. Bei NDR 90\,3 kann Gerd Spiekermanns neue April-Folge „De Test“ genossen werden … \nNoch mehr von Gerd Spiekermann hören …
URL:https://www.musiktransfair.de/event/gerd-spiekermann-ndr-903-hoer-maln-beten-to-april-2024/
CATEGORIES:Gerd Spiekermann,Radiotipp
ATTACH;FMTTYPE=image/jpeg:https://www.musiktransfair.de/wp-content/uploads/2021-Homepage-Neuigkeiten-Gerd-Spiekermann-Musiktransfair-1.jpg
END:VEVENT
BEGIN:VEVENT
DTSTART;TZID=Europe/Paris:20240319T000000
DTEND;TZID=Europe/Paris:20240319T000000
DTSTAMP:20260421T122839
CREATED:20240320T114558Z
LAST-MODIFIED:20240320T114558Z
UID:15937-1710806400-1710806400@www.musiktransfair.de
SUMMARY:Gerd Spiekermann // NDR 90\,3 // Hör mal'n beten to // Dat blaue Wunner
DESCRIPTION: \nWoher kommen die Blessuren? Als Gerd Spiekermann am Morgen vor den Spiegel tritt\, erkennt er sich beinahe nicht wieder. Bei NDR 90\,3 kann Gerd Spiekermanns zweite März-Folge „Dat blaue Wunner“ genossen werden … \nNoch mehr von Gerd Spiekermann hören …
URL:https://www.musiktransfair.de/event/gerd-spiekermann-ndr-903-hoer-maln-beten-to-maerz-2024-nr2/
CATEGORIES:Gerd Spiekermann,Radiotipp
ATTACH;FMTTYPE=image/jpeg:https://www.musiktransfair.de/wp-content/uploads/2021-Homepage-Neuigkeiten-Gerd-Spiekermann-Musiktransfair-1.jpg
END:VEVENT
BEGIN:VEVENT
DTSTART;TZID=Europe/Paris:20240305T000000
DTEND;TZID=Europe/Paris:20240305T000000
DTSTAMP:20260421T122839
CREATED:20240305T165355Z
LAST-MODIFIED:20240305T165355Z
UID:15910-1709596800-1709596800@www.musiktransfair.de
SUMMARY:Gerd Spiekermann // NDR 90\,3 // Hör mal'n beten to // Gewohnheiten
DESCRIPTION: \nNicht immer fällt es Gerd Spiekermann leicht\, tolerant gegenüber anderen Menschen zu sein. Vor allem dann nicht\, wenn es um Macken geht. Bei NDR 90\,3 kann Gerd Spiekermanns neue März-Folge „Gewohnheiten“ genossen werden … \nNoch mehr von Gerd Spiekermann hören …
URL:https://www.musiktransfair.de/event/gerd-spiekermann-ndr-903-hoer-maln-beten-to-maerz-2024/
CATEGORIES:Gerd Spiekermann,Radiotipp
ATTACH;FMTTYPE=image/jpeg:https://www.musiktransfair.de/wp-content/uploads/2021-Homepage-Neuigkeiten-Gerd-Spiekermann-Musiktransfair-1.jpg
END:VEVENT
BEGIN:VEVENT
DTSTART;VALUE=DATE:20240221
DTEND;VALUE=DATE:20240222
DTSTAMP:20260421T122839
CREATED:20240223T130514Z
LAST-MODIFIED:20240223T130550Z
UID:15838-1708502400-1708502400@www.musiktransfair.de
SUMMARY:Gerd Spiekermann // NDR 90\,3 // Hör mal'n beten to // Dat K-Woort
DESCRIPTION: \nGerd Spiekermann redet nicht lange um den heißen Brei herum. Auch von gut gemeinten Floskeln und Smalltalk hält er wenig. Bei NDR 90\,3 kann Gerd Spiekermanns neue Februar-Folge „Dat K-Woort“ verdaut werden . \nNoch mehr von Gerd Spiekermann hören …
URL:https://www.musiktransfair.de/event/gerd-spiekermann-ndr-903-hoer-maln-beten-to-februar-2024/
CATEGORIES:Gerd Spiekermann,Radiotipp
ATTACH;FMTTYPE=image/jpeg:https://www.musiktransfair.de/wp-content/uploads/2021-Homepage-Neuigkeiten-Gerd-Spiekermann-Musiktransfair-1.jpg
END:VEVENT
BEGIN:VEVENT
DTSTART;TZID=Europe/Paris:20240111T210000
DTEND;TZID=Europe/Paris:20240111T220000
DTSTAMP:20260421T122839
CREATED:20240111T132756Z
LAST-MODIFIED:20240112T112351Z
UID:15480-1705006800-1705010400@www.musiktransfair.de
SUMMARY:Charly Schreckschuss zu Gast im NDR 2 Soundcheck – Die Peter Urban Show
DESCRIPTION:… und das eine ganze Stunde! Warum? Weil Charly Tschüß sagt. Mehr erfahren. \nDirekt zur Audiothek: NDR2-Soundcheck „Die Peter Urban Show“.
URL:https://www.musiktransfair.de/event/charly-schreckschuss-gast-ndr2-peter-urban-2024/
CATEGORIES:Charly "Schreckschuss" Beutin,Radiotipp
ATTACH;FMTTYPE=image/jpeg:https://www.musiktransfair.de/wp-content/uploads/2021-Homepage-Neuigkeiten-Charly-Beutin-Peter-Urban-©-Christian-Spielmann-1.jpg
END:VEVENT
BEGIN:VEVENT
DTSTART;TZID=Europe/Paris:20231219T000000
DTEND;TZID=Europe/Paris:20231219T000000
DTSTAMP:20260421T122839
CREATED:20231220T114335Z
LAST-MODIFIED:20240106T185622Z
UID:14795-1702944000-1702944000@www.musiktransfair.de
SUMMARY:Gerd Spiekermann // NDR 90\,3 // Hör mal'n beten to // Nich vergeten
DESCRIPTION: \n\n \n\n\n\n\nIm Weihnachtseinkaufsstress vergisst Familie Spiekermann\, das Wichtigste einzukaufen. Eine Tradition steht auf dem Spiel. Bei NDR 90\,3 kann Gerd Spiekermanns neue Dezember-Folge „Nich vergeten“ genossen werden … \n\n\n\nNoch mehr von Gerd Spiekermann hören …
URL:https://www.musiktransfair.de/event/gerd-spiekermann-ndr-903-hoer-maln-beten-to-dezember-2023/
CATEGORIES:Gerd Spiekermann,Radiotipp
ATTACH;FMTTYPE=image/jpeg:https://www.musiktransfair.de/wp-content/uploads/2021-Homepage-Neuigkeiten-Gerd-Spiekermann-Musiktransfair-1.jpg
END:VEVENT
BEGIN:VEVENT
DTSTART;TZID=Europe/Helsinki:20220918T000000
DTEND;TZID=Europe/Helsinki:20220918T000000
DTSTAMP:20260421T122839
CREATED:20221105T122539Z
LAST-MODIFIED:20260108T122931Z
UID:10858-1663459200-1663459200@www.musiktransfair.de
SUMMARY:Lars-Luis Linek // Zu Gast bei Yared Dibaba in der NDR-Sendung "Platt Schnack Mucke"
DESCRIPTION:Im plattdeutschen Talk auf NDR Schlager hat Yared Dibaba im September Lars-Luis Linek zwei Stunden zu Gast gehabt. Mehr lesen und alles hören. \n 
URL:https://www.musiktransfair.de/event/lars-luis-linek-yared-dibaba-ndr-platt-schnack-mucke/
CATEGORIES:Lars-Luis Linek "Snutenhobel",Radiotipp,Terminauswahl,Veröffentlichung
ATTACH;FMTTYPE=image/jpeg:https://www.musiktransfair.de/wp-content/uploads/2022-Kalender-Musiktransfair-Yared-Dibaba-Lars-Luis-Linek-Foto-NDR-Selfie.jpg
END:VEVENT
BEGIN:VEVENT
DTSTART;TZID=Europe/Helsinki:20220320T000000
DTEND;TZID=Europe/Helsinki:20220320T000000
DTSTAMP:20260421T122839
CREATED:20221105T122903Z
LAST-MODIFIED:20241024T075750Z
UID:10021-1647734400-1647734400@www.musiktransfair.de
SUMMARY:Jochen Wiegandt // Zu Gast bei Yared Dibaba in der NDR-Sendung „Platt Schnack Mucke“
DESCRIPTION:Zwei Stunden zu Gast in der „Platt Schnack Mucke“ mit Yared Dibaba. Jochen Wiegandt hat zu Yared Dibaba nicht nur jede Menge Musik\, sondern auch sein neues plattdeutsches Liederbuch mitgebracht Mehr lesen und alles hören.
URL:https://www.musiktransfair.de/event/jochen-wiegandt-yared-dibaba-ndr/
CATEGORIES:Jochen Wiegandt,Plattpaket,Radiotipp
ATTACH;FMTTYPE=image/jpeg:https://www.musiktransfair.de/wp-content/uploads/2022-Kalender-Musiktransfair-Jochen-Wiegandt-©-NDR-Foto-Yared-Dibaba.jpg
END:VEVENT
BEGIN:VEVENT
DTSTART;TZID=Europe/Helsinki:20210603T230000
DTEND;TZID=Europe/Helsinki:20210603T235500
DTSTAMP:20260421T122840
CREATED:20210603T170500Z
LAST-MODIFIED:20221111T152629Z
UID:8584-1622761200-1622764500@www.musiktransfair.de
SUMMARY:Radiotipp // Peter Urban gratuliert auf NDR 2 Charly Beutin zum Geburtstag
DESCRIPTION:… und das eine ganze Stunde! Mehr erfahren.
URL:https://www.musiktransfair.de/event/geburtstag-charly-schreckschuss-beutin-3/
CATEGORIES:Charly "Schreckschuss" Beutin,Radiotipp
ATTACH;FMTTYPE=image/jpeg:https://www.musiktransfair.de/wp-content/uploads/2021-Homepage-Neuigkeiten-Charly-Beutin-70.jpg
END:VEVENT
END:VCALENDAR